BEGIN:VCALENDAR
VERSION:2.0
PRODID:-//Idara-e-Jaaferiya - ECPv6.13.2.1//NONSGML v1.0//EN
CALSCALE:GREGORIAN
METHOD:PUBLISH
X-WR-CALNAME:Idara-e-Jaaferiya
X-ORIGINAL-URL:https://idara.org.uk
X-WR-CALDESC:Events for Idara-e-Jaaferiya
REFRESH-INTERVAL;VALUE=DURATION:PT1H
X-Robots-Tag:noindex
X-PUBLISHED-TTL:PT1H
BEGIN:VTIMEZONE
TZID:Europe/London
BEGIN:DAYLIGHT
TZOFFSETFROM:+0000
TZOFFSETTO:+0100
TZNAME:BST
DTSTART:20260329T010000
END:DAYLIGHT
BEGIN:STANDARD
TZOFFSETFROM:+0100
TZOFFSETTO:+0000
TZNAME:GMT
DTSTART:20261025T010000
END:STANDARD
END:VTIMEZONE
BEGIN:VEVENT
DTSTART;TZID=Europe/London:20260424T130000
DTEND;TZID=Europe/London:20260424T150000
DTSTAMP:20260424T154036
CREATED:20260322T215628Z
LAST-MODIFIED:20260322T215628Z
UID:10486-1777035600-1777042800@idara.org.uk
SUMMARY:Friday Prayers
DESCRIPTION:
URL:https://idara.org.uk/event/friday-prayers-11/
END:VEVENT
BEGIN:VEVENT
DTSTART;TZID=Europe/London:20260429T183000
DTEND;TZID=Europe/London:20260429T210000
DTSTAMP:20260424T154036
CREATED:20260322T214740Z
LAST-MODIFIED:20260322T214740Z
UID:10468-1777487400-1777496400@idara.org.uk
SUMMARY:Jashan - Wiladat Imam Ali Ibn Musa (AS)
DESCRIPTION:
URL:https://idara.org.uk/event/jashan-wiladat-imam-ali-ibn-musa-as/
END:VEVENT
BEGIN:VEVENT
DTSTART;TZID=Europe/London:20260430T190000
DTEND;TZID=Europe/London:20260430T213000
DTSTAMP:20260424T154036
CREATED:20260322T215320Z
LAST-MODIFIED:20260322T215320Z
UID:10478-1777575600-1777584600@idara.org.uk
SUMMARY:Thursday Program
DESCRIPTION:
URL:https://idara.org.uk/event/thursday-program-6/
END:VEVENT
END:VCALENDAR